BEGIN:VCALENDAR
VERSION:2.0
PRODID:-//NFIA - ECPv6.15.20//NONSGML v1.0//EN
CALSCALE:GREGORIAN
METHOD:PUBLISH
X-WR-CALNAME:NFIA
X-ORIGINAL-URL:https://japan.investinholland.com
X-WR-CALDESC:NFIA のイベント
REFRESH-INTERVAL;VALUE=DURATION:PT1H
X-Robots-Tag:noindex
X-PUBLISHED-TTL:PT1H
BEGIN:VTIMEZONE
TZID:Europe/Amsterdam
BEGIN:DAYLIGHT
TZOFFSETFROM:+0100
TZOFFSETTO:+0200
TZNAME:CEST
DTSTART:20240331T010000
END:DAYLIGHT
BEGIN:STANDARD
TZOFFSETFROM:+0200
TZOFFSETTO:+0100
TZNAME:CET
DTSTART:20241027T010000
END:STANDARD
BEGIN:DAYLIGHT
TZOFFSETFROM:+0100
TZOFFSETTO:+0200
TZNAME:CEST
DTSTART:20250330T010000
END:DAYLIGHT
BEGIN:STANDARD
TZOFFSETFROM:+0200
TZOFFSETTO:+0100
TZNAME:CET
DTSTART:20251026T010000
END:STANDARD
BEGIN:DAYLIGHT
TZOFFSETFROM:+0100
TZOFFSETTO:+0200
TZNAME:CEST
DTSTART:20260329T010000
END:DAYLIGHT
BEGIN:STANDARD
TZOFFSETFROM:+0200
TZOFFSETTO:+0100
TZNAME:CET
DTSTART:20261025T010000
END:STANDARD
END:VTIMEZONE
BEGIN:VEVENT
DTSTART;VALUE=DATE:20251217
DTEND;VALUE=DATE:20251220
DTSTAMP:20260424T044749
CREATED:20240611T004503Z
LAST-MODIFIED:20250828T040648Z
UID:57940-1765929600-1766188799@japan.investinholland.com
SUMMARY:SEMICON Japan 2025
DESCRIPTION:SEMICON Japanは、半導体産業における製造技術、装置、材料をはじめ、車やIoT機器などのSMARTアプリケーションまでをカバーする、エレクトロニクス製造の国際展示会です。 \n  \nSEMICON Japan 2024 でお会いしましょう\n日本企業の皆様、オランダでの半導体事業展開にご興味はありますか? オランダの専門チームが来日し、オランダ経済省企業誘致局と共に、オランダの半導体エコシステムをご案内します。この機会にぜひお問い合わせいただき、ミーティングをスケジュールしてください。 \nオランダの世界的半導体エコシステム\n半導体技術分野において長年にわたり世界的リーダーであるオランダは、Bluetooth や Wi-Fi を発明した国としてもよく知られています。半導体製造において長く豊かな歴史があるこの国は、リソグラフィ装置を通じてムーアの法則の推進に重要な役割を果たしており、バリュー チェーン全体にわたる多様なエコシステムを誇ります。\nオランダの大学、研究機関、企業はイノベーションの最前線を走り、グローバル事業投資、先駆的研究、優秀な人材を惹きつけています。Gallium Semiconductor、Odyssey Technical Solutions、Mini-Circuits などの国際企業は、オランダの先端技術エコシステム内で存在感を確立し、成長を加速させています。 \nオランダの全国的な取り組み\n・15団体以上に及ぶ、TNO（オランダ応用科学研究機構）やホルストセンターを含む大学や技術研究機関\n・100以上に及ぶ、ASML、NXP、BESI、などの企業\n・€8億に及ぶ、官民パートナシップによる研究開発イノベーションへの年間投資額\n・2.5%に及ぶ、国のGDPの研究開発への投資額 \nオランダのダイナミックでイノベーティブな半導体分野について、併せてこちらもご覧ください。 \n 
URL:https://japan.investinholland.com/event/semicon-japan-2025/
LOCATION:Tokyo Big Sight\, 3 Chome-11-1 Ariake\, Tokyo\, \, Koto City\, Tokyo 135-0063\, Japan\, Japan
ATTACH;FMTTYPE=image/jpeg:https://japan.investinholland.com/wp-content/uploads/2024/06/semicon-japan.jpg
END:VEVENT
BEGIN:VEVENT
DTSTART;VALUE=DATE:20251008
DTEND;VALUE=DATE:20251011
DTSTAMP:20260424T044749
CREATED:20240718T123926Z
LAST-MODIFIED:20250828T033235Z
UID:58353-1759881600-1760140799@japan.investinholland.com
SUMMARY:BioJapan 2025
DESCRIPTION:               \n  \nオランダ経済省 企業誘致局 (NFIA)*1は、今年もインベスト・イン・オランダ (Invest in Holland)*2とともに、アジア最大級のパートナリングイベント、BioJapan2025*3に参加します。生命科学と健康医療の専門チームが、オランダにおける再生医療、細胞・遺伝子治療、オルガノイド、臓器チップ、デジタルヘルスのビジネスチャンスについて、直接皆様とお会いし、お話ができることを心より楽しみにしております。開催期間中、パートナリングシステムを使って、オランダでの事業展開にご興味のある日本企業様とのミーティングを行っておりますので、事前にご予約をお願いいたします。 \nオランダにおける細胞・遺伝子治療\n再生医療の分野で世界第5位にランクされているオランダは、欧州の中でも（幹細胞）細胞療法が臨床的に応用、開発されている数少ない国の1つです。この数年の間に、Kite、Fujifilm Irvine Scientific 、 Bristol Myers Squibb (BMS)などの外国企業が次々とオランダに欧州細胞療法の製造施設や研究開発施設を設立しました。オランダには世界をリードする研究人材が集結しており、ビジネス志向の研究開発、スタートアップやグローバル企業の活躍に加えて協力的な政府の支援などにより、細胞・遺伝子治療関連の企業にとって大変魅力的な国となっています。 \nオランダのバイオテクノロジーとデジタルヘルス\nオランダが推進するデジタル ヘルスケア、そしてオランダが誇るバイオテクノロジー エコシステムが、世界中の生命科学と健康医療関連企業のオランダでのビジネスをどのように加速させ、人と地球に優しい社会を構築しているかについて、こちらをご覧ください。 \n \nオランダは世界の社会課題を意欲的に解決へ導こうとする外国企業を歓迎しています\n欧州でのビジネスチャンスにご興味がおありですか？ オランダの生命科学と健康医療産業に関する詳細についてはこちらの冊子も併せてご参照ください。 \n  \n*1: オランダ経済省 企業誘致局（Netherlands Foreign Investment Agency – NFIA）は、イノベーション、デジタライゼーション、サステナビリティ（Co2削減、ESGなど)を軸に、オランダの注力産業や世界の社会課題を解決に導く影響力あるソリューションを創造する外国企業のプロジェクトの、オランダへの直接投資・拠点進出・事業拡大・(協働)研究開発等、を秘密厳守、無償にて支援しています。 \n*2: インベスト・イン・オランダ(Invest in Holland)とは、NFIAと各地域の経済開発機構や複数の大都市によって構成される全国ネットワーク組織の名称です。NFIAとともに、専門家による個別アドバイス、ガイドラインやプログラムのご紹介、団体/組織/パートナーとのコネクションをコーディネートするなど、オランダで外国企業が事業発展し、成功するようサポートを行っています。 \n*3: 今年もBioJapanでは、下記３展同時開催による、展示ブース、セミナー、パートナリングの３本柱で組み立てられ、展示会という枠組みにハマらないイベント構成となっています。 \n\n世界で最も歴史のあるバイオテクノロジー展「BioJapan」\niPS細胞を始めとする再生医療分野の研究開発の加速・産業化を目指す「再生医療JAPAN」\nデジタルテクノロジー×ライフサイエンス融合による新たな価値提供にフォーカスをあてる「healthTECH JAPAN」\n\n 
URL:https://japan.investinholland.com/event/biojapan-2025/
LOCATION:PACIFICO Yokohama\, 1-1-1 Minato Mirai\, Yokohama\, Nishi-ku\, 220-0012\, Japan
ATTACH;FMTTYPE=image/png:https://japan.investinholland.com/wp-content/uploads/2024/04/BioJapan-logo.png
END:VEVENT
BEGIN:VEVENT
DTSTART;VALUE=DATE:20250413
DTEND;VALUE=DATE:20251014
DTSTAMP:20260424T044749
CREATED:20250130T015636Z
LAST-MODIFIED:20250203T020741Z
UID:60559-1744502400-1760399999@japan.investinholland.com
SUMMARY:2025年大阪・関西万博
DESCRIPTION:  \n \n2025年4月13日から10月13日に開催される「2025年大阪・関西万博」の海外パビリオンにオランダが公式参加します。人類が直面する地球規模の問題に取り組むことを目指すこの万博には160を超える国や組織が参画します。世界の人々と世界中のイノベーションが集まり、未来の構築に役立つ新技術やソリューションが紹介される予定です。 \n2025年大阪・関西万博のテーマは「くらしの未来社会デザイン」です。このテーマにはオランダも深く共鳴しています｡世界中のパートナーとともにオランダは、地球や社会が直面する多くの課題の解決に取り組んでいるからです。気候変動、エネルギー移行・転換、食料安全保障、グローバルヘルスなど。これらの課題を解決するには、多様で異なる角度から物事を見つめ、既成概念にとらわれず、新しいアイデアや可能性を探求する必要があります。さまざまな国や人々が共通の基盤の上に立ち、互いに協力することで、革新的で持続可能な解決策を生み出すことができる、というのがオランダの考え方です。この概念をもとに、オランダパビリオンは万博期間中「コモングラウンド」をコンセプトに掲げ、183日間を走り続けます。 \n2025年大阪・関西万博期間中のオランダの重点テーマは5つの柱で構成されます。 \n\n\n\n５月\n６月＆９月\n６月\n９月\n週末イベントなど\n\n\n\n\n\n\n\n\n\n\n  \n\n先端技術：長い歴史の中で深い協力関係にあるオランダと日本。両国は現在、ともにハイテク技術革新を牽引する存在です。国際的なコラボレーションでイノベーションの強みを共有し、最先端のテクノロジーが世界的な課題を解決する未来を想像してみてください。\n農業食品 ：気候変動によって異常気象の頻度や深刻化が進み、世界の食料安全保障に大きな脅威をもたらしています。世界の人口は、2050年までに100億人近くに達すると予想されており、革新的で持続可能なソリューション開発が極めて重要です。\n健康医療：産業革命と近代化以降、人類の平均寿命は大幅に伸びたにもかかわらず、社会経済上の健康格差は、世界的に依然として大きいままにとどまっています。日本とオランダは、高齢化や医療費増大といった共通の課題を背景として、こうした根強い不平等に取り組むため協力しています。\n気候変動：気候変動によって引き起こされる混乱が深刻化するなか、大胆な対策への緊急性が、かつてないほど高まっています。オランダは、エネルギー移行・転換、持続可能性、循環経済（サーキュラーエコノミー）を重視し、日本の産業界を含むグローバルなパートナーシップで、革新的なソリューションを見出すことに尽力しています。\n文化社会：2025年、オランダと日本は文化・経済交流樹立から425周年を迎えます。芸術・文化・遺産分野における国際交流のプラットフォームのひとつとして2025年大阪・関西万博ではさまざまなプログラムを展開します。\n\nオランダでのビジネスチャンスを学ぶ\n上記１～４、各テーマの分野におけるオランダでのビジネスチャンスについてご興味はありますか？「インベスト・イン・オランダ」ネットワークの仲間が日本企業の皆様と直接お会いできる機会を楽しみにしています。オランダ経済省 企業誘致局 (contact-us@nfia-japan.com) までご連絡ください。 \nオランダのイノベーション主導型エコシステムに参加して事業拡大を加速させませんか\nオランダ経済は、イノベーション、デジタル化、持続可能性を重視しています。欧州や世界の競合国と匹敵するオランダは安定し、利益のある選択肢としてグローバル企業の進出先に選ばれています。顕微鏡、Bluetooth、Wi-Fiなど、これまでこの国で発明されてきた数々のイノベーション成功の鍵は、協力的で実用性の高いオランダ特有のアプローチにあります。オランダが選ばれる理由を知って、イノベーション主導のエコシステムにぜひご参加ください。 \n \nようこそ、オランダへ\n人と地球に豊かな未来を創造する事業を展開する企業が、欧州で戦略的ビジネスを拡大するならオランダは最適な国です。持続可能な成功の支えとなるソリューションを共創できる先進的なイノベーションエコシステムがあるからです。詳しくはこちらのパンフレットをご覧ください。 \nThe page in English. \n 
URL:https://japan.investinholland.com/event/expo-2025-osaka-kansai-japan-jp/
LOCATION:Yumeshima Island Osaka\, Kansai\, Japan\, Yumeshima Higashi\, Osaka\, 541-0052\, Japan
ATTACH;FMTTYPE=image/png:https://japan.investinholland.com/wp-content/uploads/2025/01/link_ad-1-1.png
END:VEVENT
END:VCALENDAR